BEGIN:VCALENDAR
VERSION:2.0
PRODID:-//Santa Casa da Misericórdia de Guimarães - ECPv6.3.3.1//NONSGML v1.0//EN
CALSCALE:GREGORIAN
METHOD:PUBLISH
X-WR-CALNAME:Santa Casa da Misericórdia de Guimarães
X-ORIGINAL-URL:https://scmguimaraes.com
X-WR-CALDESC:Events for Santa Casa da Misericórdia de Guimarães
REFRESH-INTERVAL;VALUE=DURATION:PT1H
X-Robots-Tag:noindex
X-PUBLISHED-TTL:PT1H
BEGIN:VTIMEZONE
TZID:Europe/Lisbon
BEGIN:DAYLIGHT
TZOFFSETFROM:+0000
TZOFFSETTO:+0100
TZNAME:WEST
DTSTART:20190331T010000
END:DAYLIGHT
BEGIN:STANDARD
TZOFFSETFROM:+0100
TZOFFSETTO:+0000
TZNAME:WET
DTSTART:20191027T010000
END:STANDARD
END:VTIMEZONE
BEGIN:VEVENT
DTSTART;TZID=Europe/Lisbon:20190802T213000
DTEND;TZID=Europe/Lisbon:20190802T223000
DTSTAMP:20260425T134808
CREATED:20190816T075503Z
LAST-MODIFIED:20231114T115302Z
UID:283-1564781400-1564785000@scmguimaraes.com
SUMMARY:Concerto pelo Grupo Coral de Azurém.
DESCRIPTION:Concerto pelo Grupo Coral de Azurém.
URL:https://scmguimaraes.com/event/concerto-pelo-grupo-coral-de-azurem/
LOCATION:Igreja da Misericórdia\, Largo Da Misericordia\, Guimarães\, NJ\, 4800-431
CATEGORIES:EVENTO,RELIGIOSO,SOLIDÁRIO
ATTACH;FMTTYPE=image/jpeg:https://scmguimaraes.com/wp-content/uploads/67404058_2213640015400644_5254618132735066112_n.jpg
END:VEVENT
END:VCALENDAR